BEGIN:VCALENDAR
VERSION:2.0
PRODID:-//wp-events-plugin.com//7.2.3.1//EN
TZID:Europe/London
X-WR-TIMEZONE:Europe/London
BEGIN:VEVENT
UID:155@youractonbid.co.uk
DTSTART;TZID=Europe/London:20260313T120000
DTEND;TZID=Europe/London:20260315T180000
DTSTAMP:20260302T171629Z
URL:https://www.youractonbid.co.uk/events/5th-annual-beer-fest-wasps-fc/
SUMMARY:5th Annual Beer Fest - Wasps FC
DESCRIPTION:\nThe countdown is on for the Wasps Beer Fest 🍻🐝\nJoin us
  for an epic weekend of craft beers\, cider\, food\, entertainment and gre
 at company.\nTickets are selling fast\, and remember: no ticket\, no entry
 .\nBOOK TICKETS HERE\nFriday - OPENING NIGHT\nLIVE MUSIC\, The Little Cham
 pagne Co &amp\; a plethora of beers to try!\nSuper Super Saturday! \nU13
 s Middlesex Festival\nWomen's double header vs Becs Belles\nMen's 2nd XV v
 s Haringey Rhinos\nMen's 6 Nations across 5 screens!\nChildren's entertain
 ment throughout the day\nSuper Sunday!\nWelcoming Minchampton U10s!\nMinis
  &amp\; Youth Training\nMiddlesex v Hertfordshire U20s men's Rugby!\n6pm -
  Beer festival ends.\nOur incredible vendors include: The Little Champange
  Co\, Free Range Jane\, Linnets Breakfast Kitchen\, Bollywood Bites\, Doug
 h Beats\, Funky Elephant &amp\; Hass's burgers!!\n\n\n&nbsp\;
ATTACH;FMTTYPE=image/jpeg:https://www.youractonbid.co.uk/wp-content/upload
 s/2026/03/s5i7c0.jpg
CATEGORIES:Community &amp; Crime Prevention,Entertainment,Food &amp;
 Drink,Live Performance,Special Events
LOCATION:Wasps FC\, Twyford Ave Sports Ground\, Acton\, W3 9QA\, United Kin
 gdom
X-APPLE-STRUCTURED-LOCATION;VALUE=URI;X-ADDRESS=Twyford Ave Sports Ground\,
  Acton\, W3 9QA\, United Kingdom;X-APPLE-RADIUS=100;X-TITLE=Wasps FC:geo:0
 ,0
END:VEVENT
BEGIN:VTIMEZONE
TZID:Europe/London
X-LIC-LOCATION:Europe/London
BEGIN:STANDARD
DTSTART:20251026T010000
TZOFFSETFROM:+0100
TZOFFSETTO:+0000
TZNAME:GMT
END:STANDARD
END:VTIMEZONE
END:VCALENDAR