BEGIN:VCALENDAR
VERSION:2.0
PRODID:-//wp-events-plugin.com//7.2.3.1//EN
TZID:Europe/London
X-WR-TIMEZONE:Europe/London
BEGIN:VEVENT
UID:196@youractonbid.co.uk
DTSTART;TZID=Europe/London:20260424T083000
DTEND;TZID=Europe/London:20260424T103000
DTSTAMP:20260421T130722Z
URL:https://www.youractonbid.co.uk/events/april-breakfast-networking-morni
 ng-acton-bid/
SUMMARY:April Breakfast Networking Morning - Acton BID
DESCRIPTION:Your Acton BID\, in collaboration with West London Chamber of C
 ommerce\, will host the next breakfast event. Coffee\, tea and pastries wi
 ll be available\, and an opportunity to meet other local business owners.\
 nThis is an amazing opportunity to connect with local businesses\, inspira
 tional people and elevate your professional journey\, plus it is FREE for 
 BID members.\nREGISTER HERE\nWant to get involved? Why not consider hostin
 g a breakfast meeting at your premises\, to enhance your engagement with t
 he local business community. This provides an excellent opportunity to net
 work with fellow professionals\, showcase your operations\, and raise awar
 eness of your services.\nIf you have any questions or would like to discus
 s becoming a host\, please contact Natasha.
ATTACH;FMTTYPE=image/jpeg:https://www.youractonbid.co.uk/wp-content/upload
 s/2026/04/3c78691b-14f9-4f26-821b-2e7373a3aa86.png
CATEGORIES:Acton BID Networking
LOCATION:Kafedaki Patisserie\, 320 Uxbridge Rd\,\, Acton\, W3 9QP\, United 
 Kingdom
X-APPLE-STRUCTURED-LOCATION;VALUE=URI;X-ADDRESS=320 Uxbridge Rd\,\, Acton\,
  W3 9QP\, United Kingdom;X-APPLE-RADIUS=100;X-TITLE=Kafedaki Patisserie:ge
 o:0,0
END:VEVENT
BEGIN:VTIMEZONE
TZID:Europe/London
X-LIC-LOCATION:Europe/London
BEGIN:DAYLIGHT
DTSTART:20260329T020000
TZOFFSETFROM:+0000
TZOFFSETTO:+0100
TZNAME:BST
END:DAYLIGHT
END:VTIMEZONE
END:VCALENDAR