BEGIN:VCALENDAR
VERSION:2.0
PRODID:-//wp-events-plugin.com//7.2.3.1//EN
TZID:Europe/London
X-WR-TIMEZONE:Europe/London
BEGIN:VEVENT
UID:161@youractonbid.co.uk
DTSTART;TZID=Europe/London:20260305T120000
DTEND;TZID=Europe/London:20260308T200000
DTSTAMP:20260305T143235Z
URL:https://www.youractonbid.co.uk/events/auditions-annie-british-theatre-
 academy-st-marys-church/
SUMMARY:AUDITIONS- 'Annie' - British Theatre Academy & St Mary's Church
DESCRIPTION:Calling all boys and girls aged 6 to 18 years old\, if you lov
 e singing\, acting\, and performing\, this could be your opportunity to ta
 ke part in a professional theatre production right here in Acton.\n✨ No
  audition fee. No fee to perform.\nThe British Theatre Academy believes th
 at all children and young people should be able to train and perform witho
 ut barriers of cost\, they simply want enthusiastic young performers who l
 ove being on stage.\nBOOK AUDITION HERE\nRehearsals:\n9th\, 16th\, 23rd\, 
 30th March\n6th\, 13th\, 20th\, 27th April\n4th\, 11th May\nProduction Wee
 k:17th–23rd May 2026\nLOCATION: Questors Theatre\, 12 Mattock Ln\, W5 5
 BQ
ATTACH;FMTTYPE=image/jpeg:https://www.youractonbid.co.uk/wp-content/upload
 s/2026/03/image2.jpeg
CATEGORIES:Entertainment,Family Fun,Hobbies &amp; Fitness,Networking
 Events,Special Events
LOCATION:St Mary's Church\, 1 The Mount London \, Acton\, W3 9NW\, United K
 ingdom
X-APPLE-STRUCTURED-LOCATION;VALUE=URI;X-ADDRESS=1 The Mount London \, Acton
 \, W3 9NW\, United Kingdom;X-APPLE-RADIUS=100;X-TITLE=St Mary's Church:geo
 :0,0
END:VEVENT
BEGIN:VTIMEZONE
TZID:Europe/London
X-LIC-LOCATION:Europe/London
BEGIN:STANDARD
DTSTART:20251026T010000
TZOFFSETFROM:+0100
TZOFFSETTO:+0000
TZNAME:GMT
END:STANDARD
END:VTIMEZONE
END:VCALENDAR