BEGIN:VCALENDAR
VERSION:2.0
PRODID:-//wp-events-plugin.com//7.2.3.1//EN
TZID:Europe/London
X-WR-TIMEZONE:Europe/London
BEGIN:VEVENT
UID:101@youractonbid.co.uk
DTSTART;TZID=Europe/London:20260304T190000
DTEND;TZID=Europe/London:20260304T203000
DTSTAMP:20260203T133418Z
URL:https://www.youractonbid.co.uk/events/commercial-heels-class-cody-stud
 ios-3/
SUMMARY:Commercial Heels Class - Cody Studios
DESCRIPTION:Commercial heels with @shaunafoxhall will take place every two
  weeks starting from Wednesday 4th February ✨\nThis fortnightly heels cl
 ass is a 1 hour 30 minute confidence-boosting\, feel-good experience desig
 ned to make you feel powerful\, sexy\, and strong. We’ll start with a he
 els-off warm-up to wake up the body\, then dive into walks\, technique\, a
 nd fierce choreography that builds confidence from the ground up. Expect s
 weat\, style and serious main-character energy.\nWhether you’re new to h
 eels or have strutted like this before\, this class is about expression\, 
 empowerment\, and having FUN!!\nNo pressure\, just vibes. You’ll leave f
 eeling fab\, lifted up\, and walking taller than when you arrived.\nEveryo
 ne welcome. All levels. All bodies. All sass.\nCome for the heels… stay 
 for the confidence. 💃👠\nEntry: £15\nBOOK HERE\nYou DO NOT want to m
 iss these classes! 🔥❤️‍🔥
ATTACH;FMTTYPE=image/jpeg:https://www.youractonbid.co.uk/wp-content/upload
 s/2026/02/Screenshot-2026-02-03-131633.jpg
CATEGORIES:Hobbies &amp; Fitness,Skills &amp; Training Courses
LOCATION:Cody Studios\,  219 High St\, \, Acton\, W3 9BY\, United Kingdom
X-APPLE-STRUCTURED-LOCATION;VALUE=URI;X-ADDRESS= 219 High St\, \, Acton\, W
 3 9BY\, United Kingdom;X-APPLE-RADIUS=100;X-TITLE=Cody Studios:geo:0,0
END:VEVENT
BEGIN:VTIMEZONE
TZID:Europe/London
X-LIC-LOCATION:Europe/London
BEGIN:STANDARD
DTSTART:20251026T010000
TZOFFSETFROM:+0100
TZOFFSETTO:+0000
TZNAME:GMT
END:STANDARD
END:VTIMEZONE
END:VCALENDAR