BEGIN:VCALENDAR
VERSION:2.0
PRODID:-//wp-events-plugin.com//7.2.3.1//EN
TZID:Europe/London
X-WR-TIMEZONE:Europe/London
BEGIN:VEVENT
UID:98@youractonbid.co.uk
DTSTART;TZID=Europe/London:20260224T130000
DTEND;TZID=Europe/London:20260224T143000
DTSTAMP:20260203T131017Z
URL:https://www.youractonbid.co.uk/events/crime-prevention-event-met-polic
 e/
SUMMARY:Crime Prevention Event - Acton Gardens Community Centre
DESCRIPTION:Officers will be at Acton Gardens Community Centre.\nOfficers w
 ill be handing out crime prevention advice during this event. Come down an
 d speak to us and raise any concerns you may have.\nSIGN UP TO MET ENGAGE 
 FOR UPDATES
ATTACH;FMTTYPE=image/jpeg:https://www.youractonbid.co.uk/wp-content/upload
 s/2026/02/6D319B8D13792C44F8E9278152D6B709.jpg
CATEGORIES:Community &amp; Crime Prevention
LOCATION:Acton Gardens Community Centre\, Unit A\, Munster Court\, Bollo Br
 idge Rd\, \, Acton\, W3 8UU\, United Kingdom
X-APPLE-STRUCTURED-LOCATION;VALUE=URI;X-ADDRESS=Unit A\, Munster Court\, Bo
 llo Bridge Rd\, \, Acton\, W3 8UU\, United Kingdom;X-APPLE-RADIUS=100;X-TI
 TLE=Acton Gardens Community Centre:geo:0,0
END:VEVENT
BEGIN:VTIMEZONE
TZID:Europe/London
X-LIC-LOCATION:Europe/London
BEGIN:STANDARD
DTSTART:20251026T010000
TZOFFSETFROM:+0100
TZOFFSETTO:+0000
TZNAME:GMT
END:STANDARD
END:VTIMEZONE
END:VCALENDAR