BEGIN:VCALENDAR
VERSION:2.0
PRODID:-//wp-events-plugin.com//7.2.3.1//EN
TZID:Europe/London
X-WR-TIMEZONE:Europe/London
BEGIN:VEVENT
UID:195@youractonbid.co.uk
DTSTART;TZID=Europe/London:20260426T110000
DTEND;TZID=Europe/London:20260426T130000
DTSTAMP:20260414T145759Z
URL:https://www.youractonbid.co.uk/events/dance-fit-cody-studios-5/
SUMMARY:Workshop with Leanne - Cody Studios
DESCRIPTION:💥Workshop with Leanne 💥\nExpect a proper warm up\, step-b
 y-step choreography\, and time to really get into the staging and characte
 r of the vision\, not just learn it\, but perform it.\n✨Intermediate lev
 el\, hip-hop /street dance style.\nNo stress\, no pressure\, just good vib
 es and a space to move\, learn and enjoy it!!\nBring your baggies\, bring 
 your energy… I will take care of the rest.\nMy workshops are always a go
 od time\, come through and be part of it ❤️‍🔥\nENTRY £25\nBOOK H
 ERE\nCODY STUDIOS WESBITE
ATTACH;FMTTYPE=image/jpeg:https://www.youractonbid.co.uk/wp-content/upload
 s/2026/04/670539515_18049319870724860_8751648892848539325_n.jpg
CATEGORIES:Hobbies &amp; Fitness,Special Events
LOCATION:Cody Studios\, 219 High St\, \, Acton\, W3 9BY\, United Kingdom
X-APPLE-STRUCTURED-LOCATION;VALUE=URI;X-ADDRESS=219 High St\, \, Acton\, W3
  9BY\, United Kingdom;X-APPLE-RADIUS=100;X-TITLE=Cody Studios:geo:0,0
END:VEVENT
BEGIN:VTIMEZONE
TZID:Europe/London
X-LIC-LOCATION:Europe/London
BEGIN:DAYLIGHT
DTSTART:20260329T020000
TZOFFSETFROM:+0000
TZOFFSETTO:+0100
TZNAME:BST
END:DAYLIGHT
END:VTIMEZONE
END:VCALENDAR