BEGIN:VCALENDAR
VERSION:2.0
PRODID:-//wp-events-plugin.com//7.2.3.1//EN
TZID:Europe/London
X-WR-TIMEZONE:Europe/London
BEGIN:VEVENT
UID:86@youractonbid.co.uk
DTSTART;TZID=Europe/London:20260204T180000
DTEND;TZID=Europe/London:20260225T200000
DTSTAMP:20260202T115318Z
URL:https://www.youractonbid.co.uk/events/drawing-fundamentals-for-beginne
 rs-w3-gallery/
SUMMARY:Drawing fundamentals for beginners - W3 Gallery
DESCRIPTION:Are you a creative soul looking for drawing guidance? Or someo
 ne who has drawn before but needs to refresh their skills? Learn about ma
 rk making\, texture and form. Discover narrative through the act of drawi
 ng. Over a four week drop-in workshop\, Lewis will guide you through vari
 ous basic techniques\, using a variety of dry materials such as pencil\, c
 harcoal and pastel.  \nEach session aims to equip you with highly useful
  ways of working that will allow you to create your own art pieces indepe
 ndently.\n-Led by Artist: Lewis Campbell - https://lostmonkeyart.com/\nDa
 tes: Feb 4th\,11th\,18th\, 25th\nENTRY: £15\nBOOK HERE\nARTification Emai
 l: info@artification.org.uk\nARTification Website\n
ATTACH;FMTTYPE=image/jpeg:https://www.youractonbid.co.uk/wp-content/upload
 s/2026/02/76d4c181-48eb-5d8d-4a84-ad9bb8a2aa6f.png
CATEGORIES:Art &amp; Culture,Hobbies &amp; Fitness,Skills &amp; Training
 Courses
LOCATION:W3 Gallery\, 185 High St\, \, Acton\,  W3 9DJ\, United Kingdom
X-APPLE-STRUCTURED-LOCATION;VALUE=URI;X-ADDRESS=185 High St\, \, Acton\,  W
 3 9DJ\, United Kingdom;X-APPLE-RADIUS=100;X-TITLE=W3 Gallery:geo:0,0
END:VEVENT
BEGIN:VTIMEZONE
TZID:Europe/London
X-LIC-LOCATION:Europe/London
BEGIN:STANDARD
DTSTART:20251026T010000
TZOFFSETFROM:+0100
TZOFFSETTO:+0000
TZNAME:GMT
END:STANDARD
END:VTIMEZONE
END:VCALENDAR