BEGIN:VCALENDAR
VERSION:2.0
PRODID:-//wp-events-plugin.com//7.2.3.1//EN
TZID:Europe/London
X-WR-TIMEZONE:Europe/London
BEGIN:VEVENT
UID:131@youractonbid.co.uk
DTSTART;TZID=Europe/London:20260302T100000
DTEND;TZID=Europe/London:20260302T123000
DTSTAMP:20260220T103928Z
URL:https://www.youractonbid.co.uk/events/esol-learn-english-for-adults-2/
SUMMARY:ESOL - Learn English for Adults
DESCRIPTION:ESOL classes\, entry levels 1 and 2.\nImprove your English lang
 uage skills and learn about British history at these friendly classes.\nEN
 TRY: Free\nNO BOOKING REQUIRED\nCONTACT 020 8825 6501\nWEBSITE
ATTACH;FMTTYPE=image/jpeg:https://www.youractonbid.co.uk/wp-content/upload
 s/2026/02/FINAL-Acton-BID-business-plan-actoncentre.jpg
CATEGORIES:Community &amp; Crime Prevention,Skills &amp; Training Courses
LOCATION:Acton Library\,  Everyone Active\, Acton Centre\, High St\, Acton\
 , W3 6NE\, United Kingdom
X-APPLE-STRUCTURED-LOCATION;VALUE=URI;X-ADDRESS= Everyone Active\, Acton Ce
 ntre\, High St\, Acton\, W3 6NE\, United Kingdom;X-APPLE-RADIUS=100;X-TITL
 E=Acton Library:geo:0,0
END:VEVENT
BEGIN:VTIMEZONE
TZID:Europe/London
X-LIC-LOCATION:Europe/London
BEGIN:STANDARD
DTSTART:20251026T010000
TZOFFSETFROM:+0100
TZOFFSETTO:+0000
TZNAME:GMT
END:STANDARD
END:VTIMEZONE
END:VCALENDAR