BEGIN:VCALENDAR
VERSION:2.0
PRODID:-//wp-events-plugin.com//7.2.3.1//EN
TZID:Europe/London
X-WR-TIMEZONE:Europe/London
BEGIN:VEVENT
UID:47@youractonbid.co.uk
DTSTART;TZID=Europe/London:20251120T073000
DTEND;TZID=Europe/London:20251120T093000
DTSTAMP:20251117T131418Z
URL:https://www.youractonbid.co.uk/events/film-quiz-night/
SUMMARY:Film Quiz Night
DESCRIPTION:Lights\, camera\, ActOne! Join us for our brand-new monthly fil
 m quiz\, hosted by @laralorenthehost. Different theme every month!\n\nTes
 t your film knowledge\, win cool prizes\, and enjoy a night out at the lou
 nge of our cosy community cinema.\nWhere: ActOne Cinema The Old Library\, 
 119-121 High St\, London W3 6NA\nWhen: 20th November 7:30pm- 9:30pm\nEntry
 : £3/ person\nBOOK HERE
ATTACH;FMTTYPE=image/jpeg:https://www.youractonbid.co.uk/wp-content/upload
 s/2025/11/ao1.jpg
CATEGORIES:Entertainment,Hobbies &amp; Fitness
LOCATION:ActOne Cinema\, The Old Library\, 119-121 High St\,\, Acton\,  W3 
 6NA\, United Kingdom
X-APPLE-STRUCTURED-LOCATION;VALUE=URI;X-ADDRESS=The Old Library\, 119-121 H
 igh St\,\, Acton\,  W3 6NA\, United Kingdom;X-APPLE-RADIUS=100;X-TITLE=Act
 One Cinema:geo:0,0
END:VEVENT
BEGIN:VTIMEZONE
TZID:Europe/London
X-LIC-LOCATION:Europe/London
BEGIN:STANDARD
DTSTART:20251026T010000
TZOFFSETFROM:+0100
TZOFFSETTO:+0000
TZNAME:GMT
END:STANDARD
END:VTIMEZONE
END:VCALENDAR