BEGIN:VCALENDAR
VERSION:2.0
PRODID:-//wp-events-plugin.com//7.2.3.1//EN
TZID:Europe/London
X-WR-TIMEZONE:Europe/London
BEGIN:VEVENT
UID:192@youractonbid.co.uk
DTSTART;TZID=Europe/London:20260403T180000
DTEND;TZID=Europe/London:20260419T220000
DTSTAMP:20260410T080946Z
URL:https://www.youractonbid.co.uk/events/folk-night-george-dragon-pub-2/
SUMMARY:FOLK NIGHT - GEORGE & DRAGON PUB
DESCRIPTION:Eloise returns to host another folk session ✨\nAn evening of 
 traditional folk music from across Europe in a relaxed\, welcoming setting
 . Musicians and listeners alike - come and be part of it! 🍺🎻\n@elois
 emakesmusic\nENTRY: FREE\nBOOK YOUR TABLE
ATTACH;FMTTYPE=image/jpeg:https://www.youractonbid.co.uk/wp-content/upload
 s/2026/04/657250722_18093057305127270_3910368574493483017_n.jpg
CATEGORIES:Entertainment,Food &amp; Drink,Live Performance
LOCATION:George & Dragon Pub\, 183 High St\, Acton\, W3 9DJ\, United Kingdo
 m
X-APPLE-STRUCTURED-LOCATION;VALUE=URI;X-ADDRESS=183 High St\, Acton\, W3 9D
 J\, United Kingdom;X-APPLE-RADIUS=100;X-TITLE=George & Dragon Pub:geo:0,0
END:VEVENT
BEGIN:VTIMEZONE
TZID:Europe/London
X-LIC-LOCATION:Europe/London
BEGIN:DAYLIGHT
DTSTART:20260329T020000
TZOFFSETFROM:+0000
TZOFFSETTO:+0100
TZNAME:BST
END:DAYLIGHT
END:VTIMEZONE
END:VCALENDAR