BEGIN:VCALENDAR
VERSION:2.0
PRODID:-//wp-events-plugin.com//7.2.3.1//EN
TZID:Europe/London
X-WR-TIMEZONE:Europe/London
BEGIN:VEVENT
UID:135@youractonbid.co.uk
DTSTART;TZID=Europe/London:20260228T140000
DTEND;TZID=Europe/London:20260228T150000
DTSTAMP:20260223T100850Z
URL:https://www.youractonbid.co.uk/events/freestyle-workshop-elevate-arts/
SUMMARY:Freestyle Workshop - Elevate Arts
DESCRIPTION:Workshop will be led by @corrie_ography in collaboration with
  @dreamwestlondon 🔥\nWe will still be welcoming Lil Blaze next month 
 💯\nCorrie's workshop will teach students how to build and embody charac
 ter in their freestyle\, not bounded by certain styles or techniques\, all
 owing total freedom of expression and helping them think and step outside 
 the box.\nAGES: 8+\nENTRY: £12.5 / £15 for non-members\nBOOKING: contact
  info@elevateartsuk.co.uk\nINSTAGRAM: @ELEVATEARTSUK
ATTACH;FMTTYPE=image/jpeg:https://www.youractonbid.co.uk/wp-content/upload
 s/2026/02/640389362_18527927059069297_5802109819624633116_n.jpg
CATEGORIES:Family Fun,Hobbies &amp; Fitness,Skills &amp; Training Courses
LOCATION:Twyford Sports Centre\, Twyford Cres\, \, Acton\, W3 9PP\, United 
 Kingdom
X-APPLE-STRUCTURED-LOCATION;VALUE=URI;X-ADDRESS=Twyford Cres\, \, Acton\, W
 3 9PP\, United Kingdom;X-APPLE-RADIUS=100;X-TITLE=Twyford Sports Centre:ge
 o:0,0
END:VEVENT
BEGIN:VTIMEZONE
TZID:Europe/London
X-LIC-LOCATION:Europe/London
BEGIN:STANDARD
DTSTART:20251026T010000
TZOFFSETFROM:+0100
TZOFFSETTO:+0000
TZNAME:GMT
END:STANDARD
END:VTIMEZONE
END:VCALENDAR