BEGIN:VCALENDAR
VERSION:2.0
PRODID:-//wp-events-plugin.com//7.2.3.1//EN
TZID:Europe/London
X-WR-TIMEZONE:Europe/London
BEGIN:VEVENT
UID:126@youractonbid.co.uk
DTSTART;TZID=Europe/London:20260304T180000
DTEND;TZID=Europe/London:20260304T223000
DTSTAMP:20260219T135927Z
URL:https://www.youractonbid.co.uk/events/games-night-act-one-cinema/
SUMMARY:Games Night- Act One Cinema
DESCRIPTION:FREE ENTRY - Please RSVP for free below so we can manage number
 s - Donations help us keep our community events free!\nOur Board Games Eve
 nings take place the first Wednesday of every month.\nGet notified of all 
 our free events by becoming a member on our Meetup Groups: West London Bo
 ard Games and Free Open Mic &amp\; Jazz Nights in West London!\nJoin us 
 for an evening of gaming fun\, chat and drinks! Whether you're a seasoned 
 gamer or brand new to the world of board games\, this event is perfect for
  everyone. You can bring and host your own games\, join other people's gam
 es or play one from our newbie-friendly collection. If you don't know how 
 to play a game someone will teach you and if you come alone we'll help you
  find a group.\nENTRY- Free\nREGISTER HERE
ATTACH;FMTTYPE=image/jpeg:https://www.youractonbid.co.uk/wp-content/upload
 s/2026/01/board-games.avif
CATEGORIES:Entertainment,Hobbies &amp; Fitness
LOCATION:Act One Cinema\, The Old Library\, 119-121 High St\, \, Acton\,  W
 3 6NA\, United Kingdom
X-APPLE-STRUCTURED-LOCATION;VALUE=URI;X-ADDRESS=The Old Library\, 119-121 H
 igh St\, \, Acton\,  W3 6NA\, United Kingdom;X-APPLE-RADIUS=100;X-TITLE=Ac
 t One Cinema:geo:0,0
END:VEVENT
BEGIN:VTIMEZONE
TZID:Europe/London
X-LIC-LOCATION:Europe/London
BEGIN:STANDARD
DTSTART:20251026T010000
TZOFFSETFROM:+0100
TZOFFSETTO:+0000
TZNAME:GMT
END:STANDARD
END:VTIMEZONE
END:VCALENDAR