BEGIN:VCALENDAR
VERSION:2.0
PRODID:-//wp-events-plugin.com//7.2.3.1//EN
TZID:Europe/London
X-WR-TIMEZONE:Europe/London
BEGIN:VEVENT
UID:125@youractonbid.co.uk
DTSTART;TZID=Europe/London:20260301T143000
DTEND;TZID=Europe/London:20260301T163000
DTSTAMP:20260219T135458Z
URL:https://www.youractonbid.co.uk/events/gentle-angry-women-director-qa/
SUMMARY:Gentle\, Angry Women DIRECTOR Q&A
DESCRIPTION:Gentle\, Angry Women (63min) is a poignant and timely documenta
 ry that weaves personal discovery\, historical remembrance\, and contempor
 ary activism together\, while honouring the largely overlooked Greenham Co
 mmon Women's Peace Camp\, where thousands of women lived for 19 years prot
 esting against nuclear missiles. It responds to the rising global tensions
  of our time while celebrating the enduring power of women's collective ac
 tion - revealing a bridge between past courage and present hope.\nPart of 
 our FOOTPRINTS film strand: A fascinating series of screenings\, discussi
 ons and Q&amp\;As that tackle environmental issues. The damage being done 
 to the environment will lay its most dire consequences at the feet of futu
 re generations. With Gentle\, Angry Women\, FOOTPRINTS wish to encourage y
 oung people to question their place in the climate crisis and how they can
  become more involved.\nThere will be no ads and trailers before the film\
 , so please arrive on time.\nENTRY: Tiered prices\, check website\nBOOK TI
 CKETS\n&nbsp\;
ATTACH;FMTTYPE=image/jpeg:https://www.youractonbid.co.uk/wp-content/upload
 s/2026/02/riwt2z646ckembkrh2z7mbyo4ocd.avif
CATEGORIES:Art &amp; Culture,Live Performance,Special Events
LOCATION:Act One Cinema\, The Old Library\, 119-121 High St\,\, Acton\, W3 
 6NA\, United Kingdom
X-APPLE-STRUCTURED-LOCATION;VALUE=URI;X-ADDRESS=The Old Library\, 119-121 H
 igh St\,\, Acton\, W3 6NA\, United Kingdom;X-APPLE-RADIUS=100;X-TITLE=Act 
 One Cinema:geo:0,0
END:VEVENT
BEGIN:VTIMEZONE
TZID:Europe/London
X-LIC-LOCATION:Europe/London
BEGIN:STANDARD
DTSTART:20251026T010000
TZOFFSETFROM:+0100
TZOFFSETTO:+0000
TZNAME:GMT
END:STANDARD
END:VTIMEZONE
END:VCALENDAR