BEGIN:VCALENDAR
VERSION:2.0
PRODID:-//wp-events-plugin.com//7.2.3.1//EN
TZID:Europe/London
X-WR-TIMEZONE:Europe/London
BEGIN:VEVENT
UID:121@youractonbid.co.uk
DTSTART;TZID=Europe/London:20260227T190000
DTEND;TZID=Europe/London:20260228T010000
DTSTAMP:20260216T114053Z
URL:https://www.youractonbid.co.uk/events/l-o-v-e-across-the-nation-the-ro
 cket/
SUMMARY:L-O-V-E Across the Nation - The Rocket
DESCRIPTION:Strictly Vinyl with Objs &amp\; Stafford Tomlinson - BOOGIE-FUN
 K-DISCO\nENTRY: Free\nThe Rocket INSTAGRAM
ATTACH;FMTTYPE=image/jpeg:https://www.youractonbid.co.uk/wp-content/upload
 s/2026/02/630123310_18099157898308066_3462689084367722616_n.jpg
CATEGORIES:Entertainment,Food &amp; Drink,Live Performance
LOCATION:The Rocket Pub\, 11-13 Churchfield Rd\, Acton\, W3 6BD\, United Ki
 ngdom
X-APPLE-STRUCTURED-LOCATION;VALUE=URI;X-ADDRESS=11-13 Churchfield Rd\, Acto
 n\, W3 6BD\, United Kingdom;X-APPLE-RADIUS=100;X-TITLE=The Rocket Pub:geo:
 0,0
END:VEVENT
BEGIN:VTIMEZONE
TZID:Europe/London
X-LIC-LOCATION:Europe/London
BEGIN:STANDARD
DTSTART:20251026T010000
TZOFFSETFROM:+0100
TZOFFSETTO:+0000
TZNAME:GMT
END:STANDARD
END:VTIMEZONE
END:VCALENDAR