BEGIN:VCALENDAR
VERSION:2.0
PRODID:-//wp-events-plugin.com//7.2.3.1//EN
TZID:Europe/London
X-WR-TIMEZONE:Europe/London
BEGIN:VEVENT
UID:116@youractonbid.co.uk
DTSTART;TZID=Europe/London:20260306T190000
DTEND;TZID=Europe/London:20260306T203000
DTSTAMP:20260209T105637Z
URL:https://www.youractonbid.co.uk/events/limbs-a-one-woman-show/
SUMMARY:LIMBS ( A One Woman Show)
DESCRIPTION:LIMBS - a one woman show\nWhat would you do with an extra limb?
  Mary’s answer comes in the form of a semi-improvised flute/comedy show\
 , fulfilling the niche we’ve all been waiting for.\n\nThrough live music
 \, experimental sounds\, and a healthy dose of nostalgia\, Mary explores h
 er relationship through time and space with all of her body parts\, includ
 ing her extra limb\, the flute. She delves into her teenage brain by reliv
 ing old diary entries and music of time gone by.\nENTRY: £5\nBOOK HERE
ATTACH;FMTTYPE=image/jpeg:https://www.youractonbid.co.uk/wp-content/upload
 s/2026/02/vv3ta20ksy5jhla6yh9owxab6kkz.avif
CATEGORIES:Entertainment,Live Performance,Special Events
LOCATION:Act One Cinema\, The Old Library\, 119-121 High St\, \, Acton\, W3
  6NA\, United Kingdom
X-APPLE-STRUCTURED-LOCATION;VALUE=URI;X-ADDRESS=The Old Library\, 119-121 H
 igh St\, \, Acton\, W3 6NA\, United Kingdom;X-APPLE-RADIUS=100;X-TITLE=Act
  One Cinema:geo:0,0
END:VEVENT
BEGIN:VTIMEZONE
TZID:Europe/London
X-LIC-LOCATION:Europe/London
BEGIN:STANDARD
DTSTART:20251026T010000
TZOFFSETFROM:+0100
TZOFFSETTO:+0000
TZNAME:GMT
END:STANDARD
END:VTIMEZONE
END:VCALENDAR