BEGIN:VCALENDAR
VERSION:2.0
PRODID:-//wp-events-plugin.com//7.2.3.1//EN
TZID:Europe/London
X-WR-TIMEZONE:Europe/London
BEGIN:VEVENT
UID:45@youractonbid.co.uk
DTSTART;TZID=Europe/London:20260317T200000
DTEND;TZID=Europe/London:20260317T230000
DTSTAMP:20260317T111830Z
URL:https://www.youractonbid.co.uk/events/open-folk-music-session/
SUMMARY:St. Patrick’s Day Pub Quiz Night - George & Dragon PUB
DESCRIPTION:The George &amp\; Dragon ☘️ St. Patrick’s Day Pub Quiz Ni
 ght ☘️\n\nGrab a pint\, gather your smartest (or luckiest) friends\, a
 nd get ready for a night of craic at our St. Patrick’s Day Quiz!\n\nThin
 k you know your shamrocks from your shenanigans? Your Guinness from your g
 eography? From Irish history and legends to music\, sport\, and a few tric
 ky surprises – we’ll put your brain to the test.\n\n🍀 Teams welcome
 \n🍺 Great prizes to be won\n🧠 Bragging rights guaranteed\n😂 Quest
 ionable answers encouraged\n\nSo dust off your green outfit\, sharpen thos
 e brains\, and join us for a night of laughs\, luck\, and legendary trivia
 .\n\nMay the luck of the Irish be with you… you’ll probably need it!\n
 \nHosted by @garryazzaro\nENTRY: £2/person\nRESERVE TABLE- Email george&
 amp\;dragon@remarkablepubs.co.uk\nINSTAGRAM @thegeorgeanddragonw3\n\n&nbsp
 \;
ATTACH;FMTTYPE=image/jpeg:https://www.youractonbid.co.uk/wp-content/upload
 s/2025/11/650478684_18040678826760584_3812166515319647274_n.jpg
CATEGORIES:Entertainment,Food &amp; Drink,Hobbies &amp; Fitness
LOCATION:George & Dragon\, 183 High St\,\, Acton\,  W3 9DJ\, United Kingdom
X-APPLE-STRUCTURED-LOCATION;VALUE=URI;X-ADDRESS=183 High St\,\, Acton\,  W3
  9DJ\, United Kingdom;X-APPLE-RADIUS=100;X-TITLE=George & Dragon:geo:0,0
END:VEVENT
BEGIN:VTIMEZONE
TZID:Europe/London
X-LIC-LOCATION:Europe/London
BEGIN:STANDARD
DTSTART:20251026T010000
TZOFFSETFROM:+0100
TZOFFSETTO:+0000
TZNAME:GMT
END:STANDARD
END:VTIMEZONE
END:VCALENDAR