BEGIN:VCALENDAR
VERSION:2.0
PRODID:-//wp-events-plugin.com//7.2.3.1//EN
TZID:Europe/London
X-WR-TIMEZONE:Europe/London
BEGIN:VEVENT
UID:136@youractonbid.co.uk
DTSTART;TZID=Europe/London:20260228T200000
DTEND;TZID=Europe/London:20260228T220000
DTSTAMP:20260223T101402Z
URL:https://www.youractonbid.co.uk/events/open-mic-night-george-dragon/
SUMMARY:Open Mic Night - George & Dragon
DESCRIPTION:🎤✨ OPEN MIC NIGHT ✨🎤\nGot talent? Love live music? Or
  just want to enjoy a great night out? Join us for an unforgettable Open M
 ic Night — where voices shine\, creativity flows\, and the vibes are alw
 ays good.\n🎶 Sing • Play • Perform • Enjoy\n🎤 All talents welc
 ome\n🍻 Great drinks\, great people\, great atmosphere\nBring your frien
 ds\, your energy\, and your best performance. See you on stage!\nINSTAGRAM
 : @georgeanddragonw3\n&nbsp\;
ATTACH;FMTTYPE=image/jpeg:https://www.youractonbid.co.uk/wp-content/upload
 s/2026/02/641002984_18038123870760584_4746002682172336495_n.jpg
CATEGORIES:Entertainment,Food &amp; Drink,Hobbies &amp; Fitness,Live
 Performance
LOCATION:George & Dragon Pub\, 183 High St\, \, Acton\,  W3 9DJ\, United Ki
 ngdom
X-APPLE-STRUCTURED-LOCATION;VALUE=URI;X-ADDRESS=183 High St\, \, Acton\,  W
 3 9DJ\, United Kingdom;X-APPLE-RADIUS=100;X-TITLE=George & Dragon Pub:geo:
 0,0
END:VEVENT
BEGIN:VTIMEZONE
TZID:Europe/London
X-LIC-LOCATION:Europe/London
BEGIN:STANDARD
DTSTART:20251026T010000
TZOFFSETFROM:+0100
TZOFFSETTO:+0000
TZNAME:GMT
END:STANDARD
END:VTIMEZONE
END:VCALENDAR