BEGIN:VCALENDAR
VERSION:2.0
PRODID:-//wp-events-plugin.com//7.2.3.1//EN
TZID:Europe/London
X-WR-TIMEZONE:Europe/London
BEGIN:VEVENT
UID:50@youractonbid.co.uk
DTSTART;TZID=Europe/London:20251205T180000
DTEND;TZID=Europe/London:20251205T200000
DTSTAMP:20251125T115411Z
URL:https://www.youractonbid.co.uk/events/open-mic-night/
SUMMARY:Open Mic Night
DESCRIPTION:Open Mic night hosted by Anthony Smith.\nWelcoming poets\, writ
 ers\, storytellers\, in any language\nWhere: W3 gallery 185 High Street\, 
 W3 9DJ\nWhen: Friday 5th December 6-8 pm\nREGISTER HERE\nARTification Webs
 ite 
ATTACH;FMTTYPE=image/jpeg:https://www.youractonbid.co.uk/wp-content/upload
 s/2025/11/1763799353634.jpg
CATEGORIES:Art &amp; Culture,Special Events
LOCATION:W3 Gallery\, 185 High Street\, Acton\, W3 9DJ\, United Kingdom
X-APPLE-STRUCTURED-LOCATION;VALUE=URI;X-ADDRESS=185 High Street\, Acton\, W
 3 9DJ\, United Kingdom;X-APPLE-RADIUS=100;X-TITLE=W3 Gallery:geo:0,0
END:VEVENT
BEGIN:VTIMEZONE
TZID:Europe/London
X-LIC-LOCATION:Europe/London
BEGIN:STANDARD
DTSTART:20251026T010000
TZOFFSETFROM:+0100
TZOFFSETTO:+0000
TZNAME:GMT
END:STANDARD
END:VTIMEZONE
END:VCALENDAR