BEGIN:VCALENDAR
VERSION:2.0
PRODID:-//wp-events-plugin.com//7.2.3.1//EN
TZID:Europe/London
X-WR-TIMEZONE:Europe/London
BEGIN:VEVENT
UID:14@youractonbid.co.uk
DTSTART;TZID=Europe/London:20251115T180000
DTEND;TZID=Europe/London:20251115T200000
DTSTAMP:20251113T161535Z
URL:https://www.youractonbid.co.uk/events/out-of-hours-sharing-stories/
SUMMARY:Out of Hours Sharing Stories
DESCRIPTION:Y-Our Story: visual stories of Acton Arts Council funded year-l
 ong celebration of community storytelling and creative collaboration conti
 nues with Out of Hours Sharing Stories featuring the Y-Our Story Poets Tuu
 p\,Amir Darwish\, Akuba\, Anthony Smith and Jordan Campbell\, plus an Open
  Mic spot.\nWhere: Acton Library\, High Street\, Acton\, W3 6NE\nWhen: 15t
 h November 6pm - 8pm\nEntry: FREE\nEVENT INFORMATION
ATTACH;FMTTYPE=image/jpeg:https://www.youractonbid.co.uk/wp-content/upload
 s/2025/11/Sharing-Stories-Out-of-Hours.png
CATEGORIES:Art &amp; Culture
LOCATION:Acton Library\, Acton Centre\, High St\, \, Acton\, W3 6NE\, Unite
 d Kingdom
X-APPLE-STRUCTURED-LOCATION;VALUE=URI;X-ADDRESS=Acton Centre\, High St\, \,
  Acton\, W3 6NE\, United Kingdom;X-APPLE-RADIUS=100;X-TITLE=Acton Library:
 geo:0,0
END:VEVENT
BEGIN:VTIMEZONE
TZID:Europe/London
X-LIC-LOCATION:Europe/London
BEGIN:STANDARD
DTSTART:20251026T010000
TZOFFSETFROM:+0100
TZOFFSETTO:+0000
TZNAME:GMT
END:STANDARD
END:VTIMEZONE
END:VCALENDAR