BEGIN:VCALENDAR
VERSION:2.0
PRODID:-//wp-events-plugin.com//7.2.3.1//EN
TZID:Europe/London
X-WR-TIMEZONE:Europe/London
BEGIN:VEVENT
UID:197@youractonbid.co.uk
DTSTART;TZID=Europe/London:20260425T110000
DTEND;TZID=Europe/London:20260425T140000
DTSTAMP:20260423T081226Z
URL:https://www.youractonbid.co.uk/events/reacton-recycle-reuse-april-even
 t/
SUMMARY:ReActon - Recycle & Reuse April Event
DESCRIPTION:Join our fun\, family-friendly day of repair and reuse and recy
 cling with ReActon at Acton Gardens Community Centre. At the event there
  will be:\nCome along to get reusing and repairing with ReActon at Stirlin
 g Road in Acton. We will have lots of reuse and repair activities that all
  the family can get involved with.\nActivities on the day include:\n free
  school uniform - high school &amp\; primary. Learn more about the Ealing 
 free school uniform - https://actforealing.org/ealing-school-uniform-swap
 /\n learn to repair your clothes with Ealing Repair café from 11am-1 pm\
 n upcycle t-shirts into yarn and bracelets with Ealing Repair café from 
 11-1 pm\n free household paint for DIY projects\n bike maintenance and s
 mall repairs\n book swap\n\nDonate for reuse and repair your:\n clean\, 
 good quality clothes and school uniform\n clothes hangers\n small e-wast
 e items (that fit into a standard plastic bag)\nRESERVE YOUR SPOT FOR FREE
  REACTON ACTIVITIES\nMORE INFO ON REACTON
ATTACH;FMTTYPE=image/jpeg:https://www.youractonbid.co.uk/wp-content/upload
 s/2026/04/April_ReActon.jpg
CATEGORIES:Community &amp; Crime Prevention,Family Fun,Hobbies &amp;
 Fitness,Special Events
LOCATION:ReActon Reuse & Recycle\, Stirling Road\, South Acton Industrial E
 state\, Acton\, W3 8DJ\, United Kingdom
X-APPLE-STRUCTURED-LOCATION;VALUE=URI;X-ADDRESS=Stirling Road\, South Acton
  Industrial Estate\, Acton\, W3 8DJ\, United Kingdom;X-APPLE-RADIUS=100;X-
 TITLE=ReActon Reuse & Recycle:geo:0,0
END:VEVENT
BEGIN:VTIMEZONE
TZID:Europe/London
X-LIC-LOCATION:Europe/London
BEGIN:DAYLIGHT
DTSTART:20260329T020000
TZOFFSETFROM:+0000
TZOFFSETTO:+0100
TZNAME:BST
END:DAYLIGHT
END:VTIMEZONE
END:VCALENDAR