BEGIN:VCALENDAR
VERSION:2.0
PRODID:-//wp-events-plugin.com//7.2.3.1//EN
TZID:Europe/London
X-WR-TIMEZONE:Europe/London
BEGIN:VEVENT
UID:179@youractonbid.co.uk
DTSTART;TZID=Europe/London:20260317T100000
DTEND;TZID=Europe/London:20260317T230000
DTSTAMP:20260312T132346Z
URL:https://www.youractonbid.co.uk/events/st-patricks-day-red-lion-pineapp
 le/
SUMMARY:St Patrick's Day - Red Lion & Pineapple
DESCRIPTION:\nSpecial offers on drinks\, and we invite everyone and anyone 
 to bring their best green for the day and make it a place to be and to rem
 ember!\n\n\nRed Lion &amp\; Pineapple WEBSITE
ATTACH;FMTTYPE=image/jpeg:https://www.youractonbid.co.uk/wp-content/upload
 s/2026/03/d9471850-008e-43be-b549-3dcaa13a6fcb.jpg
CATEGORIES:Food &amp; Drink,Special Events
LOCATION:Red Lion & Pineapple\, 281 High Street\, \, Acton\, W3 9BP\, Unite
 d Kingdom
X-APPLE-STRUCTURED-LOCATION;VALUE=URI;X-ADDRESS=281 High Street\, \, Acton\
 , W3 9BP\, United Kingdom;X-APPLE-RADIUS=100;X-TITLE=Red Lion & Pineapple:
 geo:0,0
END:VEVENT
BEGIN:VTIMEZONE
TZID:Europe/London
X-LIC-LOCATION:Europe/London
BEGIN:STANDARD
DTSTART:20251026T010000
TZOFFSETFROM:+0100
TZOFFSETTO:+0000
TZNAME:GMT
END:STANDARD
END:VTIMEZONE
END:VCALENDAR