BEGIN:VCALENDAR
VERSION:2.0
PRODID:-//wp-events-plugin.com//7.2.3.1//EN
TZID:Europe/London
X-WR-TIMEZONE:Europe/London
BEGIN:VEVENT
UID:137@youractonbid.co.uk
DTSTART;TZID=Europe/London:20260319T090000
DTEND;TZID=Europe/London:20260319T170000
DTSTAMP:20260223T102445Z
URL:https://www.youractonbid.co.uk/events/the-little-club-oak-tree-church/
SUMMARY:The Little Club - Oak Tree Church
DESCRIPTION:A calm\, nurturing role-play playgroup for babies\, toddlers an
 d young children aged 0–6\, designed to support imaginative play\, early
  social skills\, and confidence building 🤍\nAt The Little Club\, childr
 en explore themed role-play houses (kitchens\, shops\, homes and more) in 
 a small\, relaxed environment that feels gentle and unhurried — not nois
 y or overwhelming.\nParents can join in or step back\, connect with other 
 local families\, and enjoy a welcoming community space while their little 
 ones play safely.\nAGES: 0-6\nBOOKING &amp\; PRICES LINK: The Little Club 
 (Happity)\nINSTAGRAM: @thelittleclubacton\n&nbsp\;
ATTACH;FMTTYPE=image/jpeg:https://www.youractonbid.co.uk/wp-content/upload
 s/2026/02/640221761_17961368574024558_5371228306726999766_n.jpg
CATEGORIES:Family Fun
LOCATION:Oak Tree Church\, 216 High St\,\, Acton\, W3 9NX\, United Kingdom
X-APPLE-STRUCTURED-LOCATION;VALUE=URI;X-ADDRESS=216 High St\,\, Acton\, W3 
 9NX\, United Kingdom;X-APPLE-RADIUS=100;X-TITLE=Oak Tree Church:geo:0,0
END:VEVENT
BEGIN:VTIMEZONE
TZID:Europe/London
X-LIC-LOCATION:Europe/London
BEGIN:STANDARD
DTSTART:20251026T010000
TZOFFSETFROM:+0100
TZOFFSETTO:+0000
TZNAME:GMT
END:STANDARD
END:VTIMEZONE
END:VCALENDAR