BEGIN:VCALENDAR
VERSION:2.0
PRODID:-//wp-events-plugin.com//7.2.3.1//EN
TZID:Europe/London
X-WR-TIMEZONE:Europe/London
BEGIN:VEVENT
UID:11@youractonbid.co.uk
DTSTART;TZID=Europe/London:20251218T203000
DTEND;TZID=Europe/London:20251218T230000
DTSTAMP:20251113T160219Z
URL:https://www.youractonbid.co.uk/events/the-muppet-christmas-carol-drink
 -and-sing-along-2/
SUMMARY:THE MUPPET CHRISTMAS CAROL DRINK-AND-SING-ALONG
DESCRIPTION:Leave your inhibitions at the door as ActOne Cinema turns THE M
 UPPET CHRISTMAS CAROL into an interactive\, sing-and-drink-along\, festive
  screening!\nLet the mulled wine flow as you cheer\, jeer and humbug your 
 way through this classic Dickens-Muppets collaboration\, sing-along to the
  fabled Michael Caine deleted song\, and outdrink the Ghosts of Christmas 
 Past\, Present and Future.\nDressing up encouraged - Prize for our favouri
 te thematically-relevant look of the night!\nThis is an 18+ event in a cas
 ual environment\, with the bar serving all night. Doors will open at 8:30p
 m and the event will start at 8:45pm. Come early to enjoy our It's Not Eas
 y Being Green cocktails!\nBOOK TICKETS
ATTACH;FMTTYPE=image/jpeg:https://www.youractonbid.co.uk/wp-content/upload
 s/2025/11/muppets.avif
CATEGORIES:Entertainment,Special Events
LOCATION:ActOne Cinema\, The Old Library\, 119-121 High St\,\, Acton\, W3 6
 NA\, United Kingdom
X-APPLE-STRUCTURED-LOCATION;VALUE=URI;X-ADDRESS=The Old Library\, 119-121 H
 igh St\,\, Acton\, W3 6NA\, United Kingdom;X-APPLE-RADIUS=100;X-TITLE=ActO
 ne Cinema:geo:0,0
END:VEVENT
BEGIN:VTIMEZONE
TZID:Europe/London
X-LIC-LOCATION:Europe/London
BEGIN:STANDARD
DTSTART:20251026T010000
TZOFFSETFROM:+0100
TZOFFSETTO:+0000
TZNAME:GMT
END:STANDARD
END:VTIMEZONE
END:VCALENDAR