BEGIN:VCALENDAR
VERSION:2.0
PRODID:-//wp-events-plugin.com//7.2.3.1//EN
TZID:Europe/London
X-WR-TIMEZONE:Europe/London
BEGIN:VEVENT
UID:9@youractonbid.co.uk
DTSTART;TZID=Europe/London:20251112T180000
DTEND;TZID=Europe/London:20251112T200000
DTSTAMP:20251104T104807Z
URL:https://www.youractonbid.co.uk/events/the-story-of-skids-scotlands-num
 ber-1-punk-band-qa/
SUMMARY:The Story of Skids: Scotland's Number 1 Punk Band + Q&A
DESCRIPTION:ActOne Cinema presents The Story of Skids Q&amp\;A dir. Mark Sl
 oper\nFrom their humble beginnings in Dunfermline in 1977 and breakout hit
 s including Into the Valley and The Saints Are Coming (later covered by U2
  and Green Day)\, The Story of Skids: Scotland's No. 1 Punk Band is a pers
 onal exploration of the bands impact and place on the punk scene through t
 he eyes of co-founder Richard Jobson.\nMORE INFO &amp\; TICKETS
ATTACH;FMTTYPE=image/jpeg:https://www.youractonbid.co.uk/wp-content/upload
 s/2025/11/skids.avif
CATEGORIES:Art &amp; Culture,Entertainment
END:VEVENT
BEGIN:VTIMEZONE
TZID:Europe/London
X-LIC-LOCATION:Europe/London
BEGIN:STANDARD
DTSTART:20251026T010000
TZOFFSETFROM:+0100
TZOFFSETTO:+0000
TZNAME:GMT
END:STANDARD
END:VTIMEZONE
END:VCALENDAR