BEGIN:VCALENDAR
VERSION:2.0
PRODID:-//wp-events-plugin.com//7.2.3.1//EN
TZID:Europe/London
X-WR-TIMEZONE:Europe/London
BEGIN:VEVENT
UID:147@youractonbid.co.uk
DTSTART;TZID=Europe/London:20260320T181500
DTEND;TZID=Europe/London:20260320T191500
DTSTAMP:20260223T121953Z
URL:https://www.youractonbid.co.uk/events/vinyasa-flow-sound-mode-club-wes
 t-london/
SUMMARY:Vinyasa Flow & Sound - Mode Club West London
DESCRIPTION:Save the date – Spring Equinox  with Sharron.\nWelcome the n
 ew season with intention! Join us for a special spring equinox experience 
 designed to help you reset\, rebalance\, and step into spring feeling refr
 eshed and re-energised.\nThis nourishing session blends Vinyasa Flow\, Bre
 athwork\, a Deeply Restorative Sound Meditation.....\n…making it the per
 fect way to honour the seasonal shift 🌿\n📲 Spaces open 8 days in adv
 ance via the technogym app or at reception.\nINSTAGRAM: @modeclubwestlondo
 n\nWEBSITE
ATTACH;FMTTYPE=image/jpeg:https://www.youractonbid.co.uk/wp-content/upload
 s/2026/02/638500770_845273551886444_8288724354302515892_n.jpg
CATEGORIES:Hobbies &amp; Fitness
LOCATION:Mode Club West London\, 36 Bromyard Ave\, \, Acton\, W3 7AU\, Unit
 ed Kingdom
X-APPLE-STRUCTURED-LOCATION;VALUE=URI;X-ADDRESS=36 Bromyard Ave\, \, Acton\
 , W3 7AU\, United Kingdom;X-APPLE-RADIUS=100;X-TITLE=Mode Club West London
 :geo:0,0
END:VEVENT
BEGIN:VTIMEZONE
TZID:Europe/London
X-LIC-LOCATION:Europe/London
BEGIN:STANDARD
DTSTART:20251026T010000
TZOFFSETFROM:+0100
TZOFFSETTO:+0000
TZNAME:GMT
END:STANDARD
END:VTIMEZONE
END:VCALENDAR