BEGIN:VCALENDAR
VERSION:2.0
PRODID:-//wp-events-plugin.com//7.2.3.1//EN
TZID:Europe/London
X-WR-TIMEZONE:Europe/London
BEGIN:VEVENT
UID:163@youractonbid.co.uk
DTSTART;TZID=Europe/London:20260319T160000
DTEND;TZID=Europe/London:20260319T180000
DTSTAMP:20260306T092400Z
URL:https://www.youractonbid.co.uk/events/womens-rugby-world-cup-trophy-ev
 ent/
SUMMARY:Women’s Rugby World Cup Trophy Event
DESCRIPTION:\nThe Women’s Rugby World Cup Trophy is coming to Wasps FC!\n
 \nJoin us at Twyford Avenue for a special evening celebrating women’s ru
 gby. With over 12 former Wasps players involved in the tournament across d
 ifferent nations\, it couldn’t be more fitting to host the trophy here a
 t home.\n\nCome along from 4pm for open training sessions\, mixed senior t
 ouch rugby\, and the chance to take your photo with the trophy.\n\n\nREGIS
 TER HERE\n&nbsp\;
ATTACH;FMTTYPE=image/jpeg:https://www.youractonbid.co.uk/wp-content/upload
 s/2026/03/642130570_18393973126148103_1574001189946262254_n.jpg
CATEGORIES:Community &amp; Crime Prevention,Entertainment,Food &amp;
 Drink,Hobbies &amp; Fitness,Special Events
LOCATION:Wasps FC\, Twyford Ave Sports Ground\, Acton\, W3 9QA\, United Kin
 gdom
X-APPLE-STRUCTURED-LOCATION;VALUE=URI;X-ADDRESS=Twyford Ave Sports Ground\,
  Acton\, W3 9QA\, United Kingdom;X-APPLE-RADIUS=100;X-TITLE=Wasps FC:geo:0
 ,0
END:VEVENT
BEGIN:VTIMEZONE
TZID:Europe/London
X-LIC-LOCATION:Europe/London
BEGIN:STANDARD
DTSTART:20251026T010000
TZOFFSETFROM:+0100
TZOFFSETTO:+0000
TZNAME:GMT
END:STANDARD
END:VTIMEZONE
END:VCALENDAR