BEGIN:VCALENDAR
VERSION:2.0
PRODID:-//wp-events-plugin.com//7.2.3.1//EN
TZID:Europe/London
X-WR-TIMEZONE:Europe/London
BEGIN:VEVENT
UID:158@youractonbid.co.uk
DTSTART;TZID=Europe/London:20260306T170000
DTEND;TZID=Europe/London:20260306T193000
DTSTAMP:20260304T131057Z
URL:https://www.youractonbid.co.uk/events/working-mums-event-sya-brunchous
 e/
SUMMARY:Working Mums Event - SYA Brunchouse
DESCRIPTION:As a community dedicated to the future of childcare\, we are fi
 nally having a conversation with you at the amazing @syabrunchouse\nTheme 
 1: The Village\nExploring who helps and who doesn’t.\nTheme 2: The Emoti
 onal Reality\nExploring the feelings behind working.\nTheme 3: The Career 
 Pause\nExploring whether working mums took a break and what that looked li
 ke.\nENTRY: £27.80\nBOOK TICKETS HERE\nINSTAGRAM: @syabrunchouse
ATTACH;FMTTYPE=image/jpeg:https://www.youractonbid.co.uk/wp-content/upload
 s/2026/03/639744693_17886050202445233_2419854060892887560_n.jpg
CATEGORIES:Community &amp; Crime Prevention,Entertainment,Food &amp; Drink
LOCATION:SYA Brunchouse\,  22 Crown Street\, Acton\, W3 8SB\, United Kingdo
 m
X-APPLE-STRUCTURED-LOCATION;VALUE=URI;X-ADDRESS= 22 Crown Street\, Acton\, 
 W3 8SB\, United Kingdom;X-APPLE-RADIUS=100;X-TITLE=SYA Brunchouse:geo:0,0
END:VEVENT
BEGIN:VTIMEZONE
TZID:Europe/London
X-LIC-LOCATION:Europe/London
BEGIN:STANDARD
DTSTART:20251026T010000
TZOFFSETFROM:+0100
TZOFFSETTO:+0000
TZNAME:GMT
END:STANDARD
END:VTIMEZONE
END:VCALENDAR